BEGIN:VCALENDAR
VERSION:2.0
PRODID:-//Plone.org//NONSGML plone.app.event//EN
X-WR-TIMEZONE:Europe/Rome
BEGIN:VEVENT
SUMMARY:Festa di Natale al "Mazza"
DTSTART;VALUE=DATE-TIME:20101211T140000Z
DTEND;VALUE=DATE-TIME:20101211T180000Z
DTSTAMP;VALUE=DATE-TIME:20260420T165214Z
UID:5d072e745aae9089d6e14854179959b8@127.0.0.1:8095
CONTACT:Maria Teresa Turrini\, mariateresa.turrini@ausl.bologna.it
CREATED;VALUE=DATE-TIME:20101210T100103Z
DESCRIPTION:Promossa da USSI Disabili Adulti del Distretto Città di Bolog
 na
LAST-MODIFIED;VALUE=DATE-TIME:20101220T085100Z
LOCATION:Bologna\, Villa Mazzacorati
URL:https://www.ausl.bologna.it/eventi/archivio/auslevent.2010-12-10.78397
 34958
END:VEVENT
END:VCALENDAR
