BEGIN:VCALENDAR
VERSION:2.0
PRODID:-//Plone.org//NONSGML plone.app.event//EN
X-WR-TIMEZONE:Europe/Rome
BEGIN:VEVENT
SUMMARY:Le famiglie multiproblematiche
DTSTART;VALUE=DATE-TIME:20110114T080000Z
DTEND;VALUE=DATE-TIME:20110114T123000Z
DTSTAMP;VALUE=DATE-TIME:20260420T164550Z
UID:9ca896ebda3a686c8a366a29f3f5a242@127.0.0.1:8095
CATEGORIES:Dibattito
CONTACT:Salute Infanzia e Adolescenza\, 051 6597608\, cledemaria.garavini@
 ausl.bologna.it
CREATED;VALUE=DATE-TIME:20101210T115357Z
DESCRIPTION:Verso la definizione di un modello di intervento
LAST-MODIFIED;VALUE=DATE-TIME:20110322T104659Z
LOCATION:Bologna\, Ospedale Maggiore
URL:https://www.ausl.bologna.it/eventi/archivio/auslevent.2010-12-10.75563
 23314
END:VEVENT
END:VCALENDAR
