BEGIN:VCALENDAR
VERSION:2.0
PRODID:-//Plone.org//NONSGML plone.app.event//EN
X-WR-TIMEZONE:Europe/Rome
BEGIN:VEVENT
SUMMARY:LA MALNUTRIZIONE GESTITA A LIVELLO AMBULATORIALE: ASPETTI CLINICO 
 - ORGANIZZATIVI
DTSTART;VALUE=DATE-TIME:20101215T071500Z
DTEND;VALUE=DATE-TIME:20101215T160000Z
DTSTAMP;VALUE=DATE-TIME:20260420T164614Z
UID:1e3b50d2826379f9c541e37423fc9633@127.0.0.1:8095
CATEGORIES:Convegno
CONTACT:Planning Congressi\, 051 300100\, s.pio@planning.it
CREATED;VALUE=DATE-TIME:20101206T094530Z
LAST-MODIFIED;VALUE=DATE-TIME:20101220T085057Z
LOCATION:Bologna\, Hotel Savoia Regency
URL:https://www.ausl.bologna.it/eventi/archivio/auslevent.2010-12-06.43976
 09585
END:VEVENT
END:VCALENDAR
