BEGIN:VCALENDAR
VERSION:2.0
PRODID:-//Plone.org//NONSGML plone.app.event//EN
X-WR-TIMEZONE:Europe/Rome
BEGIN:VEVENT
SUMMARY:Taxi & umorismo. Quando la vignetta è d’autore
DTSTART;VALUE=DATE-TIME:20101206T143000Z
DTEND;VALUE=DATE-TIME:20101206T180000Z
DTSTAMP;VALUE=DATE-TIME:20260420T165100Z
UID:f8aed2341ab564b5cf5c164c92687ede@127.0.0.1:8095
CATEGORIES:mostra
CONTACT:Chiara Marzadori - COTABO\, chiata.marzadori@cotabo.it
CREATED;VALUE=DATE-TIME:20101206T112329Z
DESCRIPTION:ASTA BENEFICA DELLE OPERE OFFERTE DAI MAESTRI VIGNETTISTI A FA
 VORE DI UNICEF E ANTONIANO\n
LAST-MODIFIED;VALUE=DATE-TIME:20101220T085058Z
LOCATION:Bologna\, I Portici Hotel
URL:https://www.ausl.bologna.it/eventi/archivio/auslevent.2010-12-06.38237
 03563
END:VEVENT
END:VCALENDAR
