BEGIN:VCALENDAR
VERSION:2.0
PRODID:-//Plone.org//NONSGML plone.app.event//EN
X-WR-TIMEZONE:Europe/Rome
BEGIN:VEVENT
SUMMARY:ANZIANI\, ALIMENTAZIONE E NUTRIZIONE ARTIFICIALE NEL TERRITORIO
DTSTART;VALUE=DATE-TIME:20101214T071500Z
DTEND;VALUE=DATE-TIME:20101214T163000Z
DTSTAMP;VALUE=DATE-TIME:20260420T150610Z
UID:bc9c977477910c5244b5a1e93970d99e@127.0.0.1:8095
CATEGORIES:Convegno
CONTACT:Planning Congressi\, 051 300100\, s.pio@planning.it
CREATED;VALUE=DATE-TIME:20101206T093848Z
LAST-MODIFIED;VALUE=DATE-TIME:20101220T085056Z
LOCATION:Bologna\, Hotel Savoia Regency
URL:https://www.ausl.bologna.it/eventi/archivio/auslevent.2010-12-06.05198
 07894
END:VEVENT
END:VCALENDAR
