BEGIN:VCALENDAR
VERSION:2.0
PRODID:-//Plone.org//NONSGML plone.app.event//EN
X-WR-TIMEZONE:Europe/Rome
BEGIN:VEVENT
SUMMARY:Centri per le vittime: esperienze e prospettive di una realtà in 
 evoluzione
DTSTART;VALUE=DATE-TIME:20101204T080000Z
DTEND;VALUE=DATE-TIME:20101204T163000Z
DTSTAMP;VALUE=DATE-TIME:20260420T150415Z
UID:9d6b37c8f75f48e95756ac1383cee2ad@127.0.0.1:8095
CATEGORIES:Convegno
CONTACT:Segreteria del Sindaco di Casalecchio di Reno\, 051 598247\, sinda
 co@comune.casalecchio.bo.it
CREATED;VALUE=DATE-TIME:20101202T121746Z
DESCRIPTION:Convegno nell'ambito di  "DALLA MEMORIA UN PROGETTO DI FUTURO 
 - 20° ANNIVERSARIO DELLA STRAGE DEL SALVEMINI"
LAST-MODIFIED;VALUE=DATE-TIME:20101220T085054Z
LOCATION:Casalecchio di Reno\, Casa della Conoscenza
URL:https://www.ausl.bologna.it/eventi/archivio/auslevent.2010-12-02.98491
 89237
END:VEVENT
END:VCALENDAR
