BEGIN:VCALENDAR
VERSION:2.0
PRODID:-//Plone.org//NONSGML plone.app.event//EN
X-WR-TIMEZONE:Europe/Rome
BEGIN:VEVENT
SUMMARY:Quello che non ho. Tributo a Fabrizio De Andrè
DTSTART;VALUE=DATE-TIME:20110111T200000Z
DTEND;VALUE=DATE-TIME:20110111T220000Z
DTSTAMP;VALUE=DATE-TIME:20260420T150549Z
UID:2f68abf3841fbd36ba7983be9665078b@127.0.0.1:8095
CATEGORIES:Serata
CONTACT:AGEOP\, 051 399621
CREATED;VALUE=DATE-TIME:20101201T091932Z
DESCRIPTION:Concerto benefico a favore di AGEOP per l'acquisto di "Casa Si
 epelunga"
LAST-MODIFIED;VALUE=DATE-TIME:20110829T082754Z
LOCATION:Bologna\, Teatro Bellinzona
URL:https://www.ausl.bologna.it/eventi/archivio/auslevent.2010-12-01.83736
 59374
END:VEVENT
END:VCALENDAR
