BEGIN:VCALENDAR
VERSION:2.0
PRODID:-//Plone.org//NONSGML plone.app.event//EN
X-WR-TIMEZONE:Europe/Rome
BEGIN:VEVENT
SUMMARY:Incontri a Tema di Cultura Sanitaria – Le Virtù Civili 
DTSTART;VALUE=DATE-TIME:20101202T170000Z
DTEND;VALUE=DATE-TIME:20101202T190000Z
DTSTAMP;VALUE=DATE-TIME:20260420T150546Z
UID:9ffedd29d8a4eb6a9025f13b58ca2e14@127.0.0.1:8095
CATEGORIES:Dibattito
CONTACT:segreteria@asmepa.org\, 051 8909690
CREATED;VALUE=DATE-TIME:20101130T094944Z
LAST-MODIFIED;VALUE=DATE-TIME:20101220T085050Z
LOCATION:Bologna\, Centro San Domenico
URL:https://www.ausl.bologna.it/eventi/archivio/auslevent.2010-11-30.20077
 19479
END:VEVENT
END:VCALENDAR
