BEGIN:VCALENDAR
VERSION:2.0
PRODID:-//Plone.org//NONSGML plone.app.event//EN
X-WR-TIMEZONE:Europe/Rome
BEGIN:VEVENT
SUMMARY:MODELLI DI INTERVENTO NELLE SOCIETA’ MULTICULTURALI
DTSTART;VALUE=DATE-TIME:20101209T080000Z
DTEND;VALUE=DATE-TIME:20101209T130000Z
DTSTAMP;VALUE=DATE-TIME:20260420T150452Z
UID:eee95820323ba91682771dfd875d8ed2@127.0.0.1:8095
CATEGORIES:seminario
CONTACT:Marisa Marchesini\, marisa.marchesini@ausl.bologna.it
CREATED;VALUE=DATE-TIME:20101125T085656Z
DESCRIPTION:Seminario di psichiatria transculturale
LAST-MODIFIED;VALUE=DATE-TIME:20101220T084934Z
LOCATION:Bologna\, Biblioteca Sala Borsa
URL:https://www.ausl.bologna.it/eventi/archivio/auslevent.2010-11-25.96752
 48412
END:VEVENT
END:VCALENDAR
