BEGIN:VCALENDAR
VERSION:2.0
PRODID:-//Plone.org//NONSGML plone.app.event//EN
X-WR-TIMEZONE:Europe/Rome
BEGIN:VEVENT
SUMMARY:ENDOSCOPIST 28.10 05.11 SIERRA LEONE 2009
DTSTART;VALUE=DATE-TIME:20101210T080000Z
DTEND;VALUE=DATE-TIME:20101218T160000Z
DTSTAMP;VALUE=DATE-TIME:20260420T165214Z
UID:94b6c12e3d0b6ce9a53dd4328d3e6f92@127.0.0.1:8095
CATEGORIES:mostra
CREATED;VALUE=DATE-TIME:20101125T131148Z
DESCRIPTION:Racconto per immagini di Danilo Baroncini
LAST-MODIFIED;VALUE=DATE-TIME:20101220T084937Z
LOCATION:Bologna\, Ospedale Bellaria
URL:https://www.ausl.bologna.it/eventi/archivio/auslevent.2010-11-25.58755
 26223
END:VEVENT
END:VCALENDAR
