BEGIN:VCALENDAR
VERSION:2.0
PRODID:-//Plone.org//NONSGML plone.app.event//EN
X-WR-TIMEZONE:Europe/Rome
BEGIN:VEVENT
SUMMARY:Medicina integrata per la qualità di vita della donne
DTSTART;VALUE=DATE-TIME:20101214T080000Z
DTEND;VALUE=DATE-TIME:20101214T153000Z
DTSTAMP;VALUE=DATE-TIME:20260420T152144Z
UID:377833dcf43e0e624faee76128f14276@127.0.0.1:8095
CATEGORIES:seminario
CONTACT:Luca Zucchelli - Nadia Torri\, n.torri@ausl.bologna.it
CREATED;VALUE=DATE-TIME:20101125T140130Z
DESCRIPTION:Seminario rivolto ai professionisti del settore Materno-infant
 ile
LAST-MODIFIED;VALUE=DATE-TIME:20110304T113254Z
LOCATION:Bologna\, Ospedale Maggiore
URL:https://www.ausl.bologna.it/eventi/archivio/auslevent.2010-11-25.37719
 62195
END:VEVENT
END:VCALENDAR
