BEGIN:VCALENDAR
VERSION:2.0
PRODID:-//Plone.org//NONSGML plone.app.event//EN
X-WR-TIMEZONE:Europe/Rome
BEGIN:VEVENT
SUMMARY:I PROGRESSI DELLA MEDICINA E DELLA CHIRURGIA
DTSTART;VALUE=DATE-TIME:20101127T090000Z
DTEND;VALUE=DATE-TIME:20101127T113000Z
DTSTAMP;VALUE=DATE-TIME:20260420T151153Z
UID:e8b7ddf8c13b54173fab3c79595068f3@127.0.0.1:8095
CATEGORIES:seminario
CONTACT:Società Medica Chirurgica di Bologna\, 051 231488\, info@medchir.
 bo.it
CREATED;VALUE=DATE-TIME:20101125T112710Z
DESCRIPTION:Laboratori di ricerca dell'Istituto Ortopedico Rizzoli
LAST-MODIFIED;VALUE=DATE-TIME:20101220T084935Z
LOCATION:Bologna\, Palazzo dell'Archiginnasio
URL:https://www.ausl.bologna.it/eventi/archivio/auslevent.2010-11-25.24884
 77013
END:VEVENT
END:VCALENDAR
