BEGIN:VCALENDAR
VERSION:2.0
PRODID:-//Plone.org//NONSGML plone.app.event//EN
X-WR-TIMEZONE:Europe/Rome
BEGIN:VEVENT
SUMMARY:Improvvisamente in scena
DTSTART;VALUE=DATE-TIME:20101130T200000Z
DTEND;VALUE=DATE-TIME:20101130T220000Z
DTSTAMP;VALUE=DATE-TIME:20260420T150506Z
UID:5c6d82e3c8beb84b6fe453d832ec9f3c@127.0.0.1:8095
CATEGORIES:Spettacolo teatrale
CONTACT:Angela Rambaldi\, angela.rambaldi@ausl.bologna.it
CREATED;VALUE=DATE-TIME:20101124T141558Z
DESCRIPTION:Spettacolo d'improvvisazione teatrale realizzato dal personale
  dell'Azienda USL di Bologna.
LAST-MODIFIED;VALUE=DATE-TIME:20101220T084933Z
LOCATION:Bologna\, Sala Centofiori
URL:https://www.ausl.bologna.it/eventi/archivio/auslevent.2010-11-24.48386
 99264
END:VEVENT
END:VCALENDAR
