BEGIN:VCALENDAR
VERSION:2.0
PRODID:-//Plone.org//NONSGML plone.app.event//EN
X-WR-TIMEZONE:Europe/Rome
BEGIN:VEVENT
SUMMARY:Datti una mossa!
DTSTART;VALUE=DATE-TIME:20110106T070000Z
DTEND;VALUE=DATE-TIME:20110106T110000Z
DTSTAMP;VALUE=DATE-TIME:20260420T150548Z
UID:bfae8dc6bb6454826fad4f2214f3ee78@127.0.0.1:8095
CATEGORIES:Camminata e corsa campestre
CONTACT:Circolo Ravone\, circolo.ravone@ausl.bologna.it
CREATED;VALUE=DATE-TIME:20101124T155436Z
DESCRIPTION:Corri con la Befana.
LAST-MODIFIED;VALUE=DATE-TIME:20110829T082743Z
LOCATION:Bologna
URL:https://www.ausl.bologna.it/eventi/archivio/auslevent.2010-11-24.28771
 24084
END:VEVENT
END:VCALENDAR
