BEGIN:VCALENDAR
VERSION:2.0
PRODID:-//Plone.org//NONSGML plone.app.event//EN
X-WR-TIMEZONE:Europe/Rome
BEGIN:VEVENT
SUMMARY:Handimatica 2010
DTSTART;VALUE=DATE-TIME:20101125T090000Z
DTEND;VALUE=DATE-TIME:20101127T150000Z
DTSTAMP;VALUE=DATE-TIME:20260420T150416Z
UID:60f2b0a8e79b810fd23306f93fd0ddff@127.0.0.1:8095
CATEGORIES:Convegno
CREATED;VALUE=DATE-TIME:20101122T140212Z
DESCRIPTION:VIII MOSTRA-CONVEGNO NAZIONALE - TECNOLOGIE ICT e DISABILITÀ\
 n\n
LAST-MODIFIED;VALUE=DATE-TIME:20101220T084932Z
LOCATION:Bologna\, Istituto Aldini Valeriani - Siriani
URL:https://www.ausl.bologna.it/eventi/archivio/auslevent.2010-11-22.19359
 36200
END:VEVENT
END:VCALENDAR
