BEGIN:VCALENDAR
VERSION:2.0
PRODID:-//Plone.org//NONSGML plone.app.event//EN
X-WR-TIMEZONE:Europe/Rome
BEGIN:VEVENT
SUMMARY:Inaugurazione Master universitario in Chirurgia mini-invasiva pedi
 atrica
DTSTART;VALUE=DATE-TIME:20101201T143000Z
DTEND;VALUE=DATE-TIME:20101201T173000Z
DTSTAMP;VALUE=DATE-TIME:20260420T150958Z
UID:363fa1363245939e44bce89708f3c6aa@127.0.0.1:8095
CATEGORIES:Inaugurazione
CONTACT:Loretta Ansaloni\, 051 390689
CREATED;VALUE=DATE-TIME:20101122T095653Z
LAST-MODIFIED;VALUE=DATE-TIME:20101220T084931Z
LOCATION:Bologna\, Palazzo dell'Archiginnasio
URL:https://www.ausl.bologna.it/eventi/archivio/auslevent.2010-11-22.15196
 91825
END:VEVENT
END:VCALENDAR
