BEGIN:VCALENDAR
VERSION:2.0
PRODID:-//Plone.org//NONSGML plone.app.event//EN
X-WR-TIMEZONE:Europe/Rome
BEGIN:VEVENT
SUMMARY:NOI NON VOGLIAMO  la violenza contro le donne
DTSTART;VALUE=DATE-TIME:20101130T194500Z
DTEND;VALUE=DATE-TIME:20101130T213000Z
DTSTAMP;VALUE=DATE-TIME:20260420T150959Z
UID:97094a8c37d428f43c3a818160161c46@127.0.0.1:8095
CONTACT:Comune di Monteveglio\, 051 6702720\, pariopportunita@comune.monte
 veglio.bo.it
CREATED;VALUE=DATE-TIME:20101119T112910Z
DESCRIPTION:Genere di violenza. Una voce per dar voce alle donne violate\,
  alle loro storie\, alle loro ferite.
LAST-MODIFIED;VALUE=DATE-TIME:20101220T084926Z
LOCATION:Calderino di Monte San Pietro\, Sala consiliare
URL:https://www.ausl.bologna.it/eventi/archivio/auslevent.2010-11-19.99393
 49855
END:VEVENT
END:VCALENDAR
