BEGIN:VCALENDAR
VERSION:2.0
PRODID:-//Plone.org//NONSGML plone.app.event//EN
X-WR-TIMEZONE:Europe/Rome
BEGIN:VEVENT
SUMMARY:NOI NON VOGLIAMO  la violenza contro le donne
DTSTART;VALUE=DATE-TIME:20101120T083000Z
DTEND;VALUE=DATE-TIME:20101120T103000Z
DTSTAMP;VALUE=DATE-TIME:20260420T150549Z
UID:6630fb676cbbcce81eef9cd8c0a7dcbc@127.0.0.1:8095
CATEGORIES:Dibattito
CONTACT:Comune di Monteveglio\, 051 6702720\, pariopportunita@comune.monte
 veglio.bo.it
CREATED;VALUE=DATE-TIME:20101119T104328Z
DESCRIPTION:Maschile e femminile. Mettere in campo le differenze per vince
 re l'indifferenza
LAST-MODIFIED;VALUE=DATE-TIME:20101220T084913Z
LOCATION:Monteveglio\, Sala Consiliare Municipio
URL:https://www.ausl.bologna.it/eventi/archivio/auslevent.2010-11-19.99224
 86959
END:VEVENT
END:VCALENDAR
