BEGIN:VCALENDAR
VERSION:2.0
PRODID:-//Plone.org//NONSGML plone.app.event//EN
X-WR-TIMEZONE:Europe/Rome
BEGIN:VEVENT
SUMMARY:NOI NON VOGLIAMO  la violenza contro le donne
DTSTART;VALUE=DATE-TIME:20101125T160000Z
DTEND;VALUE=DATE-TIME:20101125T180000Z
DTSTAMP;VALUE=DATE-TIME:20260420T151209Z
UID:4e5a0e119d38a6b1fdd15b490216851b@127.0.0.1:8095
CATEGORIES:Dibattito
CONTACT:Comune di Monteveglio\, 051 6702720\, pariopportunita@comune.monte
 veglio.bo.it
CREATED;VALUE=DATE-TIME:20101119T111312Z
DESCRIPTION:Consigli di genere
LAST-MODIFIED;VALUE=DATE-TIME:20101220T084921Z
LOCATION:Casalecchio di Reno\, Sala consiliare del Municipio
URL:https://www.ausl.bologna.it/eventi/archivio/auslevent.2010-11-19.87188
 85837
END:VEVENT
END:VCALENDAR
