BEGIN:VCALENDAR
VERSION:2.0
PRODID:-//Plone.org//NONSGML plone.app.event//EN
X-WR-TIMEZONE:Europe/Rome
BEGIN:VEVENT
SUMMARY:L'impiego della navigazione nella chirurgia maxillo facciale
DTSTART;VALUE=DATE-TIME:20101203T080000Z
DTEND;VALUE=DATE-TIME:20101203T120000Z
DTSTAMP;VALUE=DATE-TIME:20260420T152037Z
UID:6edc60b4acb352e5827519e10de389f4@127.0.0.1:8095
CATEGORIES:Convegno
CONTACT:Ornella Marchesini\, 051 6225191\, ornella.marchesini@ausl.bologna
 .it
CREATED;VALUE=DATE-TIME:20101119T123412Z
DESCRIPTION:Convegno
LAST-MODIFIED;VALUE=DATE-TIME:20101220T084929Z
LOCATION:Bologna\, Ospedale Bellaria
URL:https://www.ausl.bologna.it/eventi/archivio/auslevent.2010-11-19.81964
 71357
END:VEVENT
END:VCALENDAR
