BEGIN:VCALENDAR
VERSION:2.0
PRODID:-//Plone.org//NONSGML plone.app.event//EN
X-WR-TIMEZONE:Europe/Rome
BEGIN:VEVENT
SUMMARY:NOI NON VOGLIAMO  la violenza contro le donne
DTSTART;VALUE=DATE-TIME:20101127T080000Z
DTEND;VALUE=DATE-TIME:20101127T110000Z
DTSTAMP;VALUE=DATE-TIME:20260420T150452Z
UID:455087e34d876fe7c5d0090a5a080610@127.0.0.1:8095
CATEGORIES:Convegno
CONTACT:Comune di Monteveglio\, 051 6702720\, pariopportunita@comune.monte
 veglio.bo.it
CREATED;VALUE=DATE-TIME:20101119T112540Z
DESCRIPTION:Femmine o donne? Maschio o uomini? Educare per prevenire
LAST-MODIFIED;VALUE=DATE-TIME:20101220T084925Z
LOCATION:Castello di Serravalle\, Palazzo di Cuzzano
URL:https://www.ausl.bologna.it/eventi/archivio/auslevent.2010-11-19.76782
 58646
END:VEVENT
END:VCALENDAR
