BEGIN:VCALENDAR
VERSION:2.0
PRODID:-//Plone.org//NONSGML plone.app.event//EN
X-WR-TIMEZONE:Europe/Rome
BEGIN:VEVENT
SUMMARY:NOI NON VOGLIAMO  la violenza contro le donne
DTSTART;VALUE=DATE-TIME:20101123T194500Z
DTEND;VALUE=DATE-TIME:20101123T214500Z
DTSTAMP;VALUE=DATE-TIME:20260420T112110Z
UID:ec8a782cf82d8dd88353c55c05a0875c@127.0.0.1:8095
CATEGORIES:Serata
CONTACT:Comune di Monteveglio\, 051 6702720\, pariopportunita@comune.monte
 veglio.bo.it
CREATED;VALUE=DATE-TIME:20101119T105148Z
DESCRIPTION:Parla con lui
LAST-MODIFIED;VALUE=DATE-TIME:20101220T084917Z
LOCATION:Crespellano\, Palazzo Garagnani
URL:https://www.ausl.bologna.it/eventi/archivio/auslevent.2010-11-19.76451
 41806
END:VEVENT
END:VCALENDAR
