BEGIN:VCALENDAR
VERSION:2.0
PRODID:-//Plone.org//NONSGML plone.app.event//EN
X-WR-TIMEZONE:Europe/Rome
BEGIN:VEVENT
SUMMARY:NOI NON VOGLIAMO  la violenza contro le donne
DTSTART;VALUE=DATE-TIME:20101126T200000Z
DTEND;VALUE=DATE-TIME:20101126T220000Z
DTSTAMP;VALUE=DATE-TIME:20260420T152022Z
UID:6ee9b4834249bd5788ef6bd786265ad7@127.0.0.1:8095
CATEGORIES:Spettacolo teatrale
CONTACT:Comune di Monteveglio\, 051 6702720\, pariopportunita@comune.monte
 veglio.bo.it
CREATED;VALUE=DATE-TIME:20101119T112150Z
DESCRIPTION:Verginella. L'emozionante\, pulsante\, travolgente storia di u
 na ragazzina in fuga dalla madre e dallo zio accusati di molestie sessuali
 .
LAST-MODIFIED;VALUE=DATE-TIME:20101220T084924Z
LOCATION:Calcara di Crespellano\, Teatro
URL:https://www.ausl.bologna.it/eventi/archivio/auslevent.2010-11-19.56940
 25689
END:VEVENT
END:VCALENDAR
