BEGIN:VCALENDAR
VERSION:2.0
PRODID:-//Plone.org//NONSGML plone.app.event//EN
X-WR-TIMEZONE:Europe/Rome
BEGIN:VEVENT
SUMMARY:Questioni di cu(o)re
DTSTART;VALUE=DATE-TIME:20101204T073000Z
DTEND;VALUE=DATE-TIME:20101204T170000Z
DTSTAMP;VALUE=DATE-TIME:20260420T150417Z
UID:dbb4e5e4213aa22a7d6d3e6151077295@127.0.0.1:8095
CATEGORIES:Convegno
CONTACT:I&C srl\, 051 614400\, alessandra.bolognini@iec-srl.it
CREATED;VALUE=DATE-TIME:20101119T115508Z
DESCRIPTION:L’infarto miocardico nell’era della comunicazione globale
LAST-MODIFIED;VALUE=DATE-TIME:20101220T084928Z
LOCATION:Forlì\, Ospedale Morgagni-Pierantoni
URL:https://www.ausl.bologna.it/eventi/archivio/auslevent.2010-11-19.49254
 51992
END:VEVENT
END:VCALENDAR
