BEGIN:VCALENDAR
VERSION:2.0
PRODID:-//Plone.org//NONSGML plone.app.event//EN
X-WR-TIMEZONE:Europe/Rome
BEGIN:VEVENT
SUMMARY:NOI NON VOGLIAMO  la violenza contro le donne
DTSTART;VALUE=DATE-TIME:20101122T193000Z
DTEND;VALUE=DATE-TIME:20101122T213000Z
DTSTAMP;VALUE=DATE-TIME:20260420T150505Z
UID:3e7ff93763f15f5ffad993af3abcd874@127.0.0.1:8095
CATEGORIES:Dibattito
CONTACT:Comune di Monteveglio\, 051 6702720\, pariopportunita@comune.monte
 veglio.bo.it
CREATED;VALUE=DATE-TIME:20101119T104750Z
DESCRIPTION:La casa sul filo. Strumenti per il contrasto della violenza co
 ntro le donne
LAST-MODIFIED;VALUE=DATE-TIME:20101220T084916Z
LOCATION:Savigno\, biblioteca
URL:https://www.ausl.bologna.it/eventi/archivio/auslevent.2010-11-19.47942
 06030
END:VEVENT
END:VCALENDAR
