BEGIN:VCALENDAR
VERSION:2.0
PRODID:-//Plone.org//NONSGML plone.app.event//EN
X-WR-TIMEZONE:Europe/Rome
BEGIN:VEVENT
SUMMARY:NOI NON VOGLIAMO  la violenza contro le donne
DTSTART;VALUE=DATE-TIME:20101125T194500Z
DTEND;VALUE=DATE-TIME:20101125T213000Z
DTSTAMP;VALUE=DATE-TIME:20260420T152036Z
UID:a7bf0d59fa3f5ca6d64b7d6d176b49f7@127.0.0.1:8095
CONTACT:Comune di Monteveglio\, 051 6702720\, pariopportunita@comune.monte
 veglio.bo.it
CREATED;VALUE=DATE-TIME:20101119T111835Z
DESCRIPTION:M'ama non m'ama viola non viola
LAST-MODIFIED;VALUE=DATE-TIME:20101220T084922Z
LOCATION:Zola Predosa\, Sala Arengo del Municipio
URL:https://www.ausl.bologna.it/eventi/archivio/auslevent.2010-11-19.41542
 41518
END:VEVENT
END:VCALENDAR
