BEGIN:VCALENDAR
VERSION:2.0
PRODID:-//Plone.org//NONSGML plone.app.event//EN
X-WR-TIMEZONE:Europe/Rome
BEGIN:VEVENT
SUMMARY:NOI NON VOGLIAMO  la violenza contro le donne
DTSTART;VALUE=DATE-TIME:20101125T143000Z
DTEND;VALUE=DATE-TIME:20101125T163000Z
DTSTAMP;VALUE=DATE-TIME:20260420T150406Z
UID:24f554e37fc4950bd285e4d58d77dfc0@127.0.0.1:8095
CONTACT:Comune di Monteveglio\, 051 6702720\, pariopportunita@comune.monte
 veglio.bo.it
CREATED;VALUE=DATE-TIME:20101119T110227Z
DESCRIPTION:Viaggio alla ricerca dei sentimenti. Riflessione sul ruolo fem
 minile nell'incontro con l'altro.
LAST-MODIFIED;VALUE=DATE-TIME:20101220T084920Z
LOCATION:Sasso Marconi\, Sala consiliare del Municipio
URL:https://www.ausl.bologna.it/eventi/archivio/auslevent.2010-11-19.36376
 79231
END:VEVENT
END:VCALENDAR
