BEGIN:VCALENDAR
VERSION:2.0
PRODID:-//Plone.org//NONSGML plone.app.event//EN
X-WR-TIMEZONE:Europe/Rome
BEGIN:VEVENT
SUMMARY:CIMAP! Cento Italiani Matti a Pechino
DTSTART;VALUE=DATE-TIME:20101201T190000Z
DTEND;VALUE=DATE-TIME:20101201T220000Z
DTSTAMP;VALUE=DATE-TIME:20260420T125346Z
UID:cc80f437789bf773b9f37a52cf19c0d6@127.0.0.1:8095
CATEGORIES:Serata
CONTACT:Cooperativa sociale Accaparlante\, 051 641.50.05\, coop@accaparlan
 te.it
CREATED;VALUE=DATE-TIME:20101119T103300Z
DESCRIPTION:Proiezione del documentario di Giovanni Piperno
LAST-MODIFIED;VALUE=DATE-TIME:20101220T084026Z
LOCATION:Bologna\, Cinema Lumière
URL:https://www.ausl.bologna.it/eventi/archivio/auslevent.2010-11-19.34435
 59253
END:VEVENT
END:VCALENDAR
