BEGIN:VCALENDAR
VERSION:2.0
PRODID:-//Plone.org//NONSGML plone.app.event//EN
X-WR-TIMEZONE:Europe/Rome
BEGIN:VEVENT
SUMMARY:NOI NON VOGLIAMO  la violenza contro le donne
DTSTART;VALUE=DATE-TIME:20101124T160000Z
DTEND;VALUE=DATE-TIME:20101124T180000Z
DTSTAMP;VALUE=DATE-TIME:20260420T150610Z
UID:5a8c7b7bce0cff335823310f47b11340@127.0.0.1:8095
CONTACT:Comune di Monteveglio\, 051 6702720\, pariopportunita@comune.monte
 veglio.bo.it
CREATED;VALUE=DATE-TIME:20101119T105803Z
DESCRIPTION:Differenza non fa rima con violenza
LAST-MODIFIED;VALUE=DATE-TIME:20101220T084918Z
LOCATION:Zola Predosa\, Sala Arengo del Municipio
URL:https://www.ausl.bologna.it/eventi/archivio/auslevent.2010-11-19.14181
 17697
END:VEVENT
END:VCALENDAR
