BEGIN:VCALENDAR
VERSION:2.0
PRODID:-//Plone.org//NONSGML plone.app.event//EN
X-WR-TIMEZONE:Europe/Rome
BEGIN:VEVENT
SUMMARY:TOSSICODIPENDENZA e MIGRAZIONE. Adolescenti stranieri tra disagio\
 , devianza e percorsi di soggettivazione
DTSTART;VALUE=DATE-TIME:20101119T080000Z
DTEND;VALUE=DATE-TIME:20101119T170000Z
DTSTAMP;VALUE=DATE-TIME:20260420T152145Z
UID:e7777a2a1dbf06a9bb355a1ebb223294@127.0.0.1:8095
CATEGORIES:seminario
CONTACT:Giorgia Paoletti\, g.paoletti@ausl.bo.it
CREATED;VALUE=DATE-TIME:20101118T090444Z
DESCRIPTION:SEMINARIO di PSICHIATRIA TRANSCULTURALE
LAST-MODIFIED;VALUE=DATE-TIME:20101220T084021Z
LOCATION:Bologna\, Ospedale Maggiore
URL:https://www.ausl.bologna.it/eventi/archivio/auslevent.2010-11-18.88456
 73267
END:VEVENT
END:VCALENDAR
