BEGIN:VCALENDAR
VERSION:2.0
PRODID:-//Plone.org//NONSGML plone.app.event//EN
X-WR-TIMEZONE:Europe/Rome
BEGIN:VEVENT
SUMMARY:Ministero della Salute\, Regioni\, SIANET: confronto su tematiche 
 emergenti in tema di sicurezza igienica e nutrizionale
DTSTART;VALUE=DATE-TIME:20101119T073000Z
DTEND;VALUE=DATE-TIME:20101119T163000Z
DTSTAMP;VALUE=DATE-TIME:20260420T150547Z
UID:c63c9bb24de5bb2feb7653ab14e4de93@127.0.0.1:8095
ATTENDEE;CN="Assistente sanitario, biologo, chimico, dietista, infermiere,
  medico";ROLE=REQ-PARTICIPANT:Assistente sanitario, biologo, chimico, diet
 ista, infermiere, medico
ATTENDEE;CN="chirurgo, tecnico di prevenzione, veterinario.";ROLE=REQ-PART
 ICIPANT:chirurgo, tecnico di prevenzione, veterinario.
CATEGORIES:Convegno
CONTACT:Marika Sardo Cardalano\, m.sardocardalano@ausl.bologna.it
CREATED;VALUE=DATE-TIME:20101118T111318Z
LAST-MODIFIED;VALUE=DATE-TIME:20101220T084023Z
LOCATION:Bologna\, Sala Auditorium Regione Emilia-Romagna
URL:https://www.ausl.bologna.it/eventi/archivio/auslevent.2010-11-18.57135
 77606
END:VEVENT
END:VCALENDAR
