BEGIN:VCALENDAR
VERSION:2.0
PRODID:-//Plone.org//NONSGML plone.app.event//EN
X-WR-TIMEZONE:Europe/Rome
BEGIN:VEVENT
SUMMARY:Mio fratello è figlio unico. Fratelli\, sorelle\, famiglie di per
 sone con disabilità
DTSTART;VALUE=DATE-TIME:20101211T080000Z
DTEND;VALUE=DATE-TIME:20101211T163000Z
DTSTAMP;VALUE=DATE-TIME:20260420T150612Z
UID:9b6cfaf8c1fc90282dab2c7dd4fd0e15@127.0.0.1:8095
CATEGORIES:Convegno
CONTACT:Cooperativa sociale Accaparlante\, 051 641.50.05\, annalisa@accapa
 rlante.it
CREATED;VALUE=DATE-TIME:20101117T101956Z
DESCRIPTION:Convegno promosso in occasione della Giornata dei Diritti dell
 e Persone con Disabilità
LAST-MODIFIED;VALUE=DATE-TIME:20101220T084017Z
LOCATION:San Lazzaro di Savena\,  Mediateca
URL:https://www.ausl.bologna.it/eventi/archivio/auslevent.2010-11-17.96504
 43640
END:VEVENT
END:VCALENDAR
