BEGIN:VCALENDAR
VERSION:2.0
PRODID:-//Plone.org//NONSGML plone.app.event//EN
X-WR-TIMEZONE:Europe/Rome
BEGIN:VEVENT
SUMMARY:OLTRE LA SORVEGLIANZA NUTRIZIONALE: INTERVENTI PER PREVENIRE SOVRA
 PPESO ED OBESITÀ E GUADAGNARE SALUTE
DTSTART;VALUE=DATE-TIME:20101118T073000Z
DTEND;VALUE=DATE-TIME:20101118T173000Z
DTSTAMP;VALUE=DATE-TIME:20260420T151104Z
UID:22d6c1b7073b5489e961676bbbd146ee@127.0.0.1:8095
ATTENDEE;CN="Assistente sanitario, biologo, chimico, dietista, infermiere,
  medico chirurgo, tecnico di prevenzione, veterinario.";ROLE=REQ-PARTICIPA
 NT:Assistente sanitario, biologo, chimico, dietista, infermiere, medico ch
 irurgo, tecnico di prevenzione, veterinario.
CATEGORIES:Convegno
CONTACT:MV Congressi\, 0521 290191\, siti@mvcongressi.it
CREATED;VALUE=DATE-TIME:20101117T094518Z
DESCRIPTION:Convegno SITI Sezione Emilia Romagna
LAST-MODIFIED;VALUE=DATE-TIME:20101220T084014Z
LOCATION:Bologna\, Zanhotel
URL:https://www.ausl.bologna.it/eventi/archivio/auslevent.2010-11-17.41274
 12209
END:VEVENT
END:VCALENDAR
