BEGIN:VCALENDAR
VERSION:2.0
PRODID:-//Plone.org//NONSGML plone.app.event//EN
X-WR-TIMEZONE:Europe/Rome
BEGIN:VEVENT
SUMMARY:Mostra fotografica - Il bello fa bene
DTSTART;VALUE=DATE-TIME:20101127T100000Z
DTEND;VALUE=DATE-TIME:20101127T120000Z
DTSTAMP;VALUE=DATE-TIME:20260420T162655Z
UID:881d21e294b0607fde1458be38446754@127.0.0.1:8095
CATEGORIES:mostra
CREATED;VALUE=DATE-TIME:20101115T134730Z
LAST-MODIFIED;VALUE=DATE-TIME:20101220T084007Z
LOCATION:Bologna\, Palazzo dell'Archiginnasio
URL:https://www.ausl.bologna.it/eventi/archivio/auslevent.2010-11-15.69566
 12541
END:VEVENT
END:VCALENDAR
