BEGIN:VCALENDAR
VERSION:2.0
PRODID:-//Plone.org//NONSGML plone.app.event//EN
X-WR-TIMEZONE:Europe/Rome
BEGIN:VEVENT
SUMMARY:Specchiarsi negli occhi degli altri
DTSTART;VALUE=DATE-TIME:20101120T073000Z
DTEND;VALUE=DATE-TIME:20101120T163000Z
DTSTAMP;VALUE=DATE-TIME:20260420T151003Z
UID:b888e41083af28e678881f09384e6cb1@127.0.0.1:8095
CATEGORIES:Convegno
CONTACT:Erica Pirazzini\, 348 4528963\, erica.pirazzini@ausl.bologna.it
CREATED;VALUE=DATE-TIME:20101111T111951Z
DESCRIPTION:Quanto pesa il giudizio.
LAST-MODIFIED;VALUE=DATE-TIME:20101220T084000Z
LOCATION:Bologna\, Sala ARCI Benassi
URL:https://www.ausl.bologna.it/eventi/archivio/auslevent.2010-11-11.99102
 02583
END:VEVENT
END:VCALENDAR
