BEGIN:VCALENDAR
VERSION:2.0
PRODID:-//Plone.org//NONSGML plone.app.event//EN
X-WR-TIMEZONE:Europe/Rome
BEGIN:VEVENT
SUMMARY:AGGIORNAMENTI SUGLI ESAMI DIAGNOSTICI: IMMAGINI LABORATORIO TEST C
 LINICI
DTSTART;VALUE=DATE-TIME:20101115T073000Z
DTEND;VALUE=DATE-TIME:20101116T173000Z
DTSTAMP;VALUE=DATE-TIME:20260420T152011Z
UID:a483c1bc54dbd6b202a2682494b7e8bd@127.0.0.1:8095
ATTENDEE;CN="Medici specialisti ambulatoriali";ROLE=REQ-PARTICIPANT:Medici
  specialisti ambulatoriali
CATEGORIES:corso
CONTACT:Rita Neri\, 051 2869208\, rita.neri@ausl.bologna.it
CREATED;VALUE=DATE-TIME:20101111T111154Z
DESCRIPTION:Corso di aggiornamento obbligatorio rivolto agli specialisti a
 mbulatoriali dell'Azienda USL di Bologna
LAST-MODIFIED;VALUE=DATE-TIME:20101220T083958Z
LOCATION:Bologna\, Hotel Savoia Regency
URL:https://www.ausl.bologna.it/eventi/archivio/auslevent.2010-11-11.44528
 04609
END:VEVENT
END:VCALENDAR
