BEGIN:VCALENDAR
VERSION:2.0
PRODID:-//Plone.org//NONSGML plone.app.event//EN
X-WR-TIMEZONE:Europe/Rome
BEGIN:VEVENT
SUMMARY:La progettazione partecipata in promozione della salute
DTSTART;VALUE=DATE-TIME:20101122T130000Z
DTEND;VALUE=DATE-TIME:20101123T163000Z
DTSTAMP;VALUE=DATE-TIME:20260420T150415Z
UID:91c5f550796ccc79f479f275b4e2552f@127.0.0.1:8095
ATTENDEE;CN="Operatori del Dipartimento Sanità Pubblica";ROLE=REQ-PARTICI
 PANT:Operatori del Dipartimento Sanità Pubblica
CATEGORIES:corso
CONTACT:Annarita Fittini\, 051 6224407\, a.fittini@ausl.bologna.it
CREATED;VALUE=DATE-TIME:20101111T113752Z
LAST-MODIFIED;VALUE=DATE-TIME:20101220T084005Z
LOCATION:San Lazzaro di Savena\, San Camillo
URL:https://www.ausl.bologna.it/eventi/archivio/auslevent.2010-11-11.02422
 63965
END:VEVENT
END:VCALENDAR
