BEGIN:VCALENDAR
VERSION:2.0
PRODID:-//Plone.org//NONSGML plone.app.event//EN
X-WR-TIMEZONE:Europe/Rome
BEGIN:VEVENT
SUMMARY:Nuovi scenari nei consumi giovanili
DTSTART;VALUE=DATE-TIME:20101124T080000Z
DTEND;VALUE=DATE-TIME:20101124T130000Z
DTSTAMP;VALUE=DATE-TIME:20260420T152241Z
UID:09cfcc92414fc0cc342dd84668dae025@127.0.0.1:8095
ATTENDEE;CN="Infermieri, assistenti sociali, educatori, psicologi, psichia
 tri, neuropsichiatri del DSM ma anche dei Servizi Sociali, dei Consultori 
 e degli Spazi Giovani";ROLE=REQ-PARTICIPANT:Infermieri, assistenti sociali
 , educatori, psicologi, psichiatri, neuropsichiatri del DSM ma anche dei S
 ervizi Sociali, dei Consultori e degli Spazi Giovani
CONTACT:Beatrice Bassini\, 051 6188934\, b.bassini@ausl.bologna.it
CREATED;VALUE=DATE-TIME:20101109T105643Z
DESCRIPTION:Iniziativa formativa
LAST-MODIFIED;VALUE=DATE-TIME:20101109T105803Z
LOCATION:Casalecchio di Reno\, via Cimarosa 5/2
URL:https://www.ausl.bologna.it/eventi/archivio/auslevent.2010-11-09.85784
 23777
END:VEVENT
END:VCALENDAR
