BEGIN:VCALENDAR
VERSION:2.0
PRODID:-//Plone.org//NONSGML plone.app.event//EN
X-WR-TIMEZONE:Europe/Rome
BEGIN:VEVENT
SUMMARY:La patologia affettivo-cognitiva dell'anziano
DTSTART;VALUE=DATE-TIME:20101109T073000Z
DTEND;VALUE=DATE-TIME:20101110T170000Z
DTSTAMP;VALUE=DATE-TIME:20260420T150407Z
UID:8394c3a48bd30667961339d24b84ce14@127.0.0.1:8095
CATEGORIES:corso
CREATED;VALUE=DATE-TIME:20101108T095906Z
DESCRIPTION:Un'appropriata diagnosi dimensionale per un adeguato trattamen
 to
LAST-MODIFIED;VALUE=DATE-TIME:20101220T084019Z
LOCATION:Bologna e Parma
URL:https://www.ausl.bologna.it/eventi/archivio/auslevent.2010-11-08.20764
 25527
END:VEVENT
END:VCALENDAR
