BEGIN:VCALENDAR
VERSION:2.0
PRODID:-//Plone.org//NONSGML plone.app.event//EN
X-WR-TIMEZONE:Europe/Rome
BEGIN:VEVENT
SUMMARY:Competenze sanitarie e rete dei servizi
DTSTART;VALUE=DATE-TIME:20101109T074500Z
DTEND;VALUE=DATE-TIME:20101109T120000Z
DTSTAMP;VALUE=DATE-TIME:20260420T152314Z
UID:9c9a9b5f3ec93f145e29923bc4f2624b@127.0.0.1:8095
CATEGORIES:corso
CONTACT:Davide Medici\, 051 6597118\, davide.medici@ausl.bologna.it
CREATED;VALUE=DATE-TIME:20101105T090901Z
DESCRIPTION:Corso di formazione  per educatori professionali dei centri pe
 r persone senza fissa dimora - 1° giornata: sicurezza ed igiene degli amb
 ienti
LAST-MODIFIED;VALUE=DATE-TIME:20101220T084009Z
LOCATION:Bologna\, Centro Multifunzionale\, Struttura Beltrame
URL:https://www.ausl.bologna.it/eventi/archivio/auslevent.2010-11-05.51726
 49027
END:VEVENT
END:VCALENDAR
