BEGIN:VCALENDAR
VERSION:2.0
PRODID:-//Plone.org//NONSGML plone.app.event//EN
X-WR-TIMEZONE:Europe/Rome
BEGIN:VEVENT
SUMMARY:Competenze sanitarie e rete dei servizi
DTSTART;VALUE=DATE-TIME:20101202T080000Z
DTEND;VALUE=DATE-TIME:20101202T120000Z
DTSTAMP;VALUE=DATE-TIME:20260420T150547Z
UID:1f5fe7e99cc1c166907aab73cf91a786@127.0.0.1:8095
CATEGORIES:corso
CONTACT:Davide Medici\, 051 6597118\, davide.medici@ausl.bologna.it
CREATED;VALUE=DATE-TIME:20101105T091715Z
DESCRIPTION:Corso di formazione per educatori professionali dei centri per
  persone senza fissa dimora - 3° giornata: ruolo relazionale e di facilit
 azione dell'operatore
LAST-MODIFIED;VALUE=DATE-TIME:20101220T084015Z
LOCATION:Bologna\, Centro Multifunzionale\, Struttura Beltrame
URL:https://www.ausl.bologna.it/eventi/archivio/auslevent.2010-11-05.50255
 30272
END:VEVENT
END:VCALENDAR
