BEGIN:VCALENDAR
VERSION:2.0
PRODID:-//Plone.org//NONSGML plone.app.event//EN
X-WR-TIMEZONE:Europe/Rome
BEGIN:VEVENT
SUMMARY:Competenze sanitarie e rete dei servizi
DTSTART;VALUE=DATE-TIME:20101124T130000Z
DTEND;VALUE=DATE-TIME:20101124T160000Z
DTSTAMP;VALUE=DATE-TIME:20260420T152241Z
UID:7d9132581caab7c2f9ecd5bcdc9c03d8@127.0.0.1:8095
CATEGORIES:corso
CONTACT:Davide Medici\, 051 6597118\, davide.medici@ausl.bologna.it
CREATED;VALUE=DATE-TIME:20101105T091302Z
DESCRIPTION:Corso di formazione per educatori professionali dei centri per
  persone senza fissa dimora - 2° giornata: La prevenzione dei rischi
LAST-MODIFIED;VALUE=DATE-TIME:20101220T084011Z
LOCATION:Bologna\, Residenza Irnerio
URL:https://www.ausl.bologna.it/eventi/archivio/auslevent.2010-11-05.26611
 78957
END:VEVENT
END:VCALENDAR
