BEGIN:VCALENDAR
VERSION:2.0
PRODID:-//Plone.org//NONSGML plone.app.event//EN
X-WR-TIMEZONE:Europe/Rome
BEGIN:VEVENT
SUMMARY:Stomia e qualità di vita: vivere bene comunque
DTSTART;VALUE=DATE-TIME:20101120T083000Z
DTEND;VALUE=DATE-TIME:20101120T160000Z
DTSTAMP;VALUE=DATE-TIME:20260420T150452Z
UID:0c2bfcbcdcc16567af49e0defc842877@127.0.0.1:8095
CATEGORIES:Convegno
CONTACT:Maria D’Elia\, 329 2120097\, maria.delia@ausl.bo.it
CREATED;VALUE=DATE-TIME:20101102T134049Z
LAST-MODIFIED;VALUE=DATE-TIME:20101220T084003Z
LOCATION:Bologna\, Sala Convegni Emilbanca
URL:https://www.ausl.bologna.it/eventi/archivio/auslevent.2010-11-02.53036
 73766
END:VEVENT
END:VCALENDAR
