BEGIN:VCALENDAR
VERSION:2.0
PRODID:-//Plone.org//NONSGML plone.app.event//EN
X-WR-TIMEZONE:Europe/Rome
BEGIN:VEVENT
SUMMARY:Giovani in valle
DTSTART;VALUE=DATE-TIME:20101105T080000Z
DTEND;VALUE=DATE-TIME:20101105T120000Z
DTSTAMP;VALUE=DATE-TIME:20260420T143304Z
UID:cd19a29e3a207db94d494598cbf3bffc@127.0.0.1:8095
CATEGORIES:Tavola rotonda
CONTACT:Teresa Testigrosso\, 051 6188934\, t.testigrosso@ausl.bologna.it
CREATED;VALUE=DATE-TIME:20101029T135201Z
DESCRIPTION:Esperienze di prevenzione in gruppi informali di giovani del d
 istretto di Casalecchio di Reno
LAST-MODIFIED;VALUE=DATE-TIME:20101111T105429Z
LOCATION:Casalecchio di Reno\, via Cimarosa 5/2
URL:https://www.ausl.bologna.it/eventi/archivio/auslevent.2010-10-29.94064
 70050
END:VEVENT
END:VCALENDAR
