BEGIN:VCALENDAR
VERSION:2.0
PRODID:-//Plone.org//NONSGML plone.app.event//EN
X-WR-TIMEZONE:Europe/Rome
BEGIN:VEVENT
SUMMARY:MOTEL
DTSTART;VALUE=DATE-TIME:20101111T203000Z
DTEND;VALUE=DATE-TIME:20101114T170000Z
DTSTAMP;VALUE=DATE-TIME:20260420T151209Z
UID:619986303b97cfb15d8119eb7ebb5886@127.0.0.1:8095
CATEGORIES:Spettacolo teatrale
CONTACT:Arena del Sole\, biglietteria@arenadelsole.it
CREATED;VALUE=DATE-TIME:20101029T143902Z
DESCRIPTION:Progetto “Arte e Salute nell’Arena del Sole”
LAST-MODIFIED;VALUE=DATE-TIME:20101220T084001Z
LOCATION:Bologna\, Arena del Sole
URL:https://www.ausl.bologna.it/eventi/archivio/auslevent.2010-10-29.91148
 99428
END:VEVENT
END:VCALENDAR
