BEGIN:VCALENDAR
VERSION:2.0
PRODID:-//Plone.org//NONSGML plone.app.event//EN
X-WR-TIMEZONE:Europe/Rome
BEGIN:VEVENT
SUMMARY:Jazz for Eritrea
DTSTART;VALUE=DATE-TIME:20101105T201500Z
DTEND;VALUE=DATE-TIME:20101105T223000Z
DTSTAMP;VALUE=DATE-TIME:20260420T112127Z
UID:27034e544625e480253dd01ade805989@127.0.0.1:8095
CATEGORIES:Serata
CONTACT:Associazione AnLaDi\, 339 6247452\, bcavalchi@libero.it
CREATED;VALUE=DATE-TIME:20101028T074015Z
DESCRIPTION:Concerto jazz di benefi cenza a sostegno del progetto Camminia
 mo Insieme.
LAST-MODIFIED;VALUE=DATE-TIME:20101111T105428Z
LOCATION:Bologna\, Teatro Dehon
URL:https://www.ausl.bologna.it/eventi/archivio/auslevent.2010-10-28.41586
 73599
END:VEVENT
END:VCALENDAR
