BEGIN:VCALENDAR
VERSION:2.0
PRODID:-//Plone.org//NONSGML plone.app.event//EN
X-WR-TIMEZONE:Europe/Rome
BEGIN:VEVENT
SUMMARY:Ricordando Simona
DTSTART;VALUE=DATE-TIME:20101030T080000Z
DTEND;VALUE=DATE-TIME:20101030T110000Z
DTSTAMP;VALUE=DATE-TIME:20260420T150504Z
UID:fa51b178f4b57a85372ab0c1fc6676ae@127.0.0.1:8095
CREATED;VALUE=DATE-TIME:20101028T072148Z
DESCRIPTION:Cerimonia in memoria di Simona Onofri\, responsabile della Cas
 a Residenza "San Biagio”\, ad un anno dalla scomparsa
LAST-MODIFIED;VALUE=DATE-TIME:20101111T105422Z
LOCATION:Casalecchio di Reno\, Residenza San Biagio
URL:https://www.ausl.bologna.it/eventi/archivio/auslevent.2010-10-28.34106
 55401
END:VEVENT
END:VCALENDAR
