BEGIN:VCALENDAR
VERSION:2.0
PRODID:-//Plone.org//NONSGML plone.app.event//EN
X-WR-TIMEZONE:Europe/Rome
BEGIN:VEVENT
SUMMARY:TUTTI PER UN SORRISO UN SORRISO PER TUTTI - CIRCUORE
DTSTART;VALUE=DATE-TIME:20101211T133000Z
DTEND;VALUE=DATE-TIME:20101211T180000Z
DTSTAMP;VALUE=DATE-TIME:20260420T150406Z
UID:5d166fa92af4f54b90e1e8881375cec1@127.0.0.1:8095
CONTACT:Ansabbio\, ansabbio@ansabbio.it
CREATED;VALUE=DATE-TIME:20101028T070428Z
DESCRIPTION:Iniziativa a favore dei bambini e ragazzi ricoverati in ospeda
 le nell'area metropolitana di Bologna
LAST-MODIFIED;VALUE=DATE-TIME:20101220T083953Z
LOCATION:Bologna\, Pala Dozza
URL:https://www.ausl.bologna.it/eventi/archivio/auslevent.2010-10-28.32919
 50487
END:VEVENT
END:VCALENDAR
