BEGIN:VCALENDAR
VERSION:2.0
PRODID:-//Plone.org//NONSGML plone.app.event//EN
X-WR-TIMEZONE:Europe/Rome
BEGIN:VEVENT
SUMMARY:LA FABBRICA DELLA SALUTE  E LA FABBRICA DELLA MALATTIA
DTSTART;VALUE=DATE-TIME:20101028T150000Z
DTEND;VALUE=DATE-TIME:20101028T180000Z
DTSTAMP;VALUE=DATE-TIME:20260420T150417Z
UID:7213bc6594f8e6211db53639d20a6662@127.0.0.1:8095
CATEGORIES:Incontro con l'autore
CONTACT:Archiginnasio\, 051 276811
CREATED;VALUE=DATE-TIME:20101020T071836Z
DESCRIPTION:Presentazione del libro di Francesco Domenico Capizzi
LAST-MODIFIED;VALUE=DATE-TIME:20101111T105418Z
LOCATION:Bologna\, Archiginnasio
URL:https://www.ausl.bologna.it/eventi/archivio/auslevent.2010-10-20.99312
 99128
END:VEVENT
END:VCALENDAR
