BEGIN:VCALENDAR
VERSION:2.0
PRODID:-//Plone.org//NONSGML plone.app.event//EN
X-WR-TIMEZONE:Europe/Rome
BEGIN:VEVENT
SUMMARY:In sogno mi spuntano le piume e divento aquila
DTSTART;VALUE=DATE-TIME:20101022T190000Z
DTEND;VALUE=DATE-TIME:20101022T213000Z
DTSTAMP;VALUE=DATE-TIME:20260420T150506Z
UID:f0a0a747d1eedcff5e7e3394f38ee3b4@127.0.0.1:8095
CATEGORIES:Spettacolo teatrale
CONTACT:Il Seno Di Poi\, 051 6597355\; 331 4231000\, info@ilsenodipoi-onlu
 s.it
CREATED;VALUE=DATE-TIME:20101018T081550Z
DESCRIPTION:Spettacolo interpretato da Tita Ruggeri
LAST-MODIFIED;VALUE=DATE-TIME:20101111T105417Z
LOCATION:Zola Predosa\, Auditorium Spazio Binario
URL:https://www.ausl.bologna.it/eventi/archivio/auslevent.2010-10-18.61662
 65647
END:VEVENT
END:VCALENDAR
